BEGIN:VCALENDAR
VERSION:2.0
PRODID:-//wp-events-plugin.com//7.2.3.1//EN
TZID:Europe/Berlin
X-WR-TIMEZONE:Europe/Berlin
BEGIN:VEVENT
UID:147@faustball-volksdorf.de
DTSTART;TZID=Europe/Berlin:20251019T100000
DTEND;TZID=Europe/Berlin:20251019T120000
DTSTAMP:20251017T152307Z
URL:https://faustball-volksdorf.de/events/training-berner-au-31/
SUMMARY:Training Berner Au
DESCRIPTION:
CATEGORIES:Findet statt
LOCATION:Halle Berner Au\, Meiendorfer Mühlenweg 35\, Hamburg\, Deutschlan
 d
X-APPLE-STRUCTURED-LOCATION;VALUE=URI;X-ADDRESS=Meiendorfer Mühlenweg 35\,
  Hamburg\, Deutschland;X-APPLE-RADIUS=100;X-TITLE=Halle Berner Au:geo:0,0
END:VEVENT
BEGIN:VTIMEZONE
TZID:Europe/Berlin
X-LIC-LOCATION:Europe/Berlin
BEGIN:DAYLIGHT
DTSTART:20250330T030000
TZOFFSETFROM:+0100
TZOFFSETTO:+0200
TZNAME:CEST
END:DAYLIGHT
END:VTIMEZONE
END:VCALENDAR