BEGIN:VCALENDAR
VERSION:2.0
PRODID:-//wp-events-plugin.com//7.2.3.1//EN
TZID:Europe/Berlin
X-WR-TIMEZONE:Europe/Berlin
BEGIN:VEVENT
UID:74@faustball-volksdorf.de
DTSTART;TZID=Europe/Berlin:20241208T100000
DTEND;TZID=Europe/Berlin:20241208T150000
DTSTAMP:20241203T120818Z
URL:https://faustball-volksdorf.de/events/faustball-spieltag-hamburg-liga/
SUMMARY:Faustball Spieltag Hamburg-Liga
DESCRIPTION:
CATEGORIES:Findet statt
LOCATION:Sporthalle Museumstraße\, Museumstraße 19 \, Hamburg\, Hamburg\,
  22765\, Deutschland
X-APPLE-STRUCTURED-LOCATION;VALUE=URI;X-ADDRESS=Museumstraße 19 \, Hamburg
 \, Hamburg\, 22765\, Deutschland;X-APPLE-RADIUS=100;X-TITLE=Sporthalle Mus
 eumstraße:geo:0,0
END:VEVENT
BEGIN:VTIMEZONE
TZID:Europe/Berlin
X-LIC-LOCATION:Europe/Berlin
BEGIN:STANDARD
DTSTART:20241027T020000
TZOFFSETFROM:+0200
TZOFFSETTO:+0100
TZNAME:CET
END:STANDARD
END:VTIMEZONE
END:VCALENDAR