BEGIN:VCALENDAR
VERSION:2.0
PRODID:-//wp-events-plugin.com//7.2.3.1//EN
TZID:Europe/Berlin
X-WR-TIMEZONE:Europe/Berlin
BEGIN:VEVENT
UID:39@faustball-volksdorf.de
DTSTART;TZID=Europe/Berlin:20240803T100000
DTEND;TZID=Europe/Berlin:20240804T170000
DTSTAMP:20240704T145317Z
URL:https://faustball-volksdorf.de/events/deutsche-meisterschaft-feldfaust
 ball-2024-senioren-maenner-60/
SUMMARY:Deutsche Meisterschaft Feldfaustball 2024 Senioren Männer 60
DESCRIPTION:
CATEGORIES:Findet statt
LOCATION:TSV Bederkesa - Waldsportplatz\, Seminarstraße 10\, Geestland\, N
 iedersachsen\, 27624 \, Deutschland
X-APPLE-STRUCTURED-LOCATION;VALUE=URI;X-ADDRESS=Seminarstraße 10\, Geestla
 nd\, Niedersachsen\, 27624 \, Deutschland;X-APPLE-RADIUS=100;X-TITLE=TSV B
 ederkesa - Waldsportplatz:geo:0,0
END:VEVENT
BEGIN:VTIMEZONE
TZID:Europe/Berlin
X-LIC-LOCATION:Europe/Berlin
BEGIN:DAYLIGHT
DTSTART:20240331T030000
TZOFFSETFROM:+0100
TZOFFSETTO:+0200
TZNAME:CEST
END:DAYLIGHT
END:VTIMEZONE
END:VCALENDAR